BEGIN:VCALENDAR
VERSION:2.0
PRODID:-//MJC de Saint-Martin-en-Haut - ECPv6.15.20//NONSGML v1.0//EN
CALSCALE:GREGORIAN
METHOD:PUBLISH
X-WR-CALNAME:MJC de Saint-Martin-en-Haut
X-ORIGINAL-URL:https://www.mjc-smeh.fr
X-WR-CALDESC:Évènements pour MJC de Saint-Martin-en-Haut
REFRESH-INTERVAL;VALUE=DURATION:PT1H
X-Robots-Tag:noindex
X-PUBLISHED-TTL:PT1H
BEGIN:VTIMEZONE
TZID:Europe/Paris
BEGIN:DAYLIGHT
TZOFFSETFROM:+0100
TZOFFSETTO:+0200
TZNAME:CEST
DTSTART:20250330T010000
END:DAYLIGHT
BEGIN:STANDARD
TZOFFSETFROM:+0200
TZOFFSETTO:+0100
TZNAME:CET
DTSTART:20251026T010000
END:STANDARD
BEGIN:DAYLIGHT
TZOFFSETFROM:+0100
TZOFFSETTO:+0200
TZNAME:CEST
DTSTART:20260329T010000
END:DAYLIGHT
BEGIN:STANDARD
TZOFFSETFROM:+0200
TZOFFSETTO:+0100
TZNAME:CET
DTSTART:20261025T010000
END:STANDARD
BEGIN:DAYLIGHT
TZOFFSETFROM:+0100
TZOFFSETTO:+0200
TZNAME:CEST
DTSTART:20270328T010000
END:DAYLIGHT
BEGIN:STANDARD
TZOFFSETFROM:+0200
TZOFFSETTO:+0100
TZNAME:CET
DTSTART:20271031T010000
END:STANDARD
END:VTIMEZONE
BEGIN:VEVENT
DTSTART;TZID=Europe/Paris:20260424T190000
DTEND;TZID=Europe/Paris:20260424T210000
DTSTAMP:20260424T140956
CREATED:20260402T142859Z
LAST-MODIFIED:20260402T142930Z
UID:1831-1777057200-1777064400@www.mjc-smeh.fr
SUMMARY:Assemblée Générale
DESCRIPTION:Chèr·es adhérent·es\,\n\n\n\n\n\n\n \nLes bénévoles du Conseil d’Administration de la MJC de Saint-Martin-en-Haut vous invitent à l’Assemblée Généralevendredi 24 avril de 19 h à 21 h à la MJC.\n \nAu programme :\n \n– Découverte ludique et interactive du bilan jeunesse\, activité et événementiel ainsi que du bilan financier\n– Présentation générale du bilan moral\, du nouveau projet associatif et du fonctionnement de la gouvernance\n– Vote du rapport moral et financier / élection du Conseil d’Administration\n– Verre de l’amitié\n \nCette soirée est ouverte à tous·tes\, nous vous attendons nombreux·ses !
URL:https://www.mjc-smeh.fr/evenement/1831/
LOCATION:MJC\, Place du Plomb\, Saint-Martin-en-Haut\, 69850\, France
END:VEVENT
END:VCALENDAR